BEGIN:VCALENDAR
VERSION:2.0
PRODID:-//Tukios.com/
BEGIN:VEVENT
UID:dc684513-a4fc-4556-bcb6-689629c1cc43@www.cunninghamkilgore.com
DTSTAMP:20260420T200820Z
DTSTART:20260425T193000Z
DTEND:20260425T203000Z
SUMMARY:Burial
DESCRIPTION:
URL:https://www.cunninghamkilgore.com/obituaries/mary-jones
LOCATION: 5000 West Harrison Road  Longview TX 75604
GEO:32.4943708;-94.8263937
END:VEVENT
END:VCALENDAR