BEGIN:VCALENDAR
VERSION:2.0
PRODID:-//Tukios.com/
BEGIN:VEVENT
UID:dde5f72e-57f8-4f9f-8de5-a6ded22cd6bc@www.cunninghamkilgore.com
DTSTAMP:20260420T201135Z
DTSTART:20260425T170000Z
DTEND:20260425T180000Z
SUMMARY:Funeral Service
DESCRIPTION:
URL:https://www.cunninghamkilgore.com/obituaries/mary-jones
LOCATION: 317 West Methvin Street  Longview TX 75601
GEO:32.4974202;-94.7429718
END:VEVENT
END:VCALENDAR