BEGIN:VCALENDAR
VERSION:2.0
PRODID:-//Tukios.com/
BEGIN:VEVENT
UID:fb64c372-28bb-4c7a-86cf-b8df88c69ce3@www.cunninghamkilgore.com
DTSTAMP:20260420T201222Z
DTSTART:20260424T190000Z
DTEND:20260424T230000Z
SUMMARY:Viewing
DESCRIPTION:
URL:https://www.cunninghamkilgore.com/obituaries/mary-jones
LOCATION: 600 E Main St  Kilgore TX 75662
GEO:32.383285;-94.8733398
END:VEVENT
END:VCALENDAR