BEGIN:VCALENDAR
VERSION:2.0
PRODID:-//Tukios.com/
BEGIN:VEVENT
UID:a7f8871c-7f9d-4a8b-8233-8b5685931f42@www.cunninghamkilgore.com
DTSTAMP:20260425T201024Z
DTSTART:20260430T160000Z
DTEND:20260430T170000Z
SUMMARY:Graveside Service
DESCRIPTION:
URL:https://www.cunninghamkilgore.com/obituaries/frank-smith
LOCATION: 200 Memorial St.  Kilgore TX 75662
GEO:32.372805;-94.8851017
END:VEVENT
END:VCALENDAR